BEGIN:VCALENDAR
VERSION:2.0
PRODID:-//New York County Lawyers Association - ECPv6.15.17//NONSGML v1.0//EN
CALSCALE:GREGORIAN
METHOD:PUBLISH
X-WR-CALNAME:New York County Lawyers Association
X-ORIGINAL-URL:https://www.nycla.org
X-WR-CALDESC:Events for New York County Lawyers Association
REFRESH-INTERVAL;VALUE=DURATION:PT1H
X-Robots-Tag:noindex
X-PUBLISHED-TTL:PT1H
BEGIN:VTIMEZONE
TZID:America/New_York
BEGIN:DAYLIGHT
TZOFFSETFROM:-0500
TZOFFSETTO:-0400
TZNAME:EDT
DTSTART:20250309T070000
END:DAYLIGHT
BEGIN:STANDARD
TZOFFSETFROM:-0400
TZOFFSETTO:-0500
TZNAME:EST
DTSTART:20251102T060000
END:STANDARD
BEGIN:DAYLIGHT
TZOFFSETFROM:-0500
TZOFFSETTO:-0400
TZNAME:EDT
DTSTART:20260308T070000
END:DAYLIGHT
BEGIN:STANDARD
TZOFFSETFROM:-0400
TZOFFSETTO:-0500
TZNAME:EST
DTSTART:20261101T060000
END:STANDARD
BEGIN:DAYLIGHT
TZOFFSETFROM:-0500
TZOFFSETTO:-0400
TZNAME:EDT
DTSTART:20270314T070000
END:DAYLIGHT
BEGIN:STANDARD
TZOFFSETFROM:-0400
TZOFFSETTO:-0500
TZNAME:EST
DTSTART:20271107T060000
END:STANDARD
END:VTIMEZONE
BEGIN:VEVENT
DTSTART;TZID=America/New_York:20260303T180000
DTEND;TZID=America/New_York:20260303T194500
DTSTAMP:20260422T162257
CREATED:20260206T010341Z
LAST-MODIFIED:20260206T010341Z
UID:10000381-1772560800-1772567100@www.nycla.org
SUMMARY:So You're Interested in a Career in the Courts 2026
DESCRIPTION:
URL:https://www.nycla.org/calendar-events/so-youre-interested-in-a-career-in-the-courts-2026-cle030326/
LOCATION:Webinar | In-Person\, 111 Broadway\, New York\, NY\, 10006\, United States
CATEGORIES:Continuing Legal Education
END:VEVENT
BEGIN:VEVENT
DTSTART;VALUE=DATE:20260304
DTEND;VALUE=DATE:20260305
DTSTAMP:20260422T162257
CREATED:20251023T162322Z
LAST-MODIFIED:20260225T194357Z
UID:10000353-1772582400-1772668799@www.nycla.org
SUMMARY:2026 Annual Gala - SOLD OUT
DESCRIPTION:On Thursday\, October 23\, 2025\, Azelia Cutts <acutts@nycla.org> wrote:
URL:https://www.nycla.org/calendar-events/2026-annual-gala/
LOCATION:The Pierre Hotel\, 5 East 61st Street\, New York\, 10065\, United States
CATEGORIES:Special Event
END:VEVENT
BEGIN:VEVENT
DTSTART;TZID=America/New_York:20260305T173000
DTEND;TZID=America/New_York:20260305T200000
DTSTAMP:20260422T162257
CREATED:20260213T192822Z
LAST-MODIFIED:20260213T192822Z
UID:10000383-1772731800-1772740800@www.nycla.org
SUMMARY:NY Ethics Update: Avoiding Common Pitfalls and Following Best Practices
DESCRIPTION:
URL:https://www.nycla.org/calendar-events/ny-ethics-update-avoiding-common-pitfalls-and-following-best-practices-cle030526/
LOCATION:Webinar
CATEGORIES:Continuing Legal Education
END:VEVENT
BEGIN:VEVENT
DTSTART;TZID=America/New_York:20260310T173000
DTEND;TZID=America/New_York:20260310T200000
DTSTAMP:20260422T162257
CREATED:20260206T014128Z
LAST-MODIFIED:20260206T014128Z
UID:10000382-1773163800-1773172800@www.nycla.org
SUMMARY:Special Education Placements: Law and Practice - Bridging Legal and Educational Perspectives
DESCRIPTION:
URL:https://www.nycla.org/calendar-events/special-education-placements-law-and-practice-bridging-legal-and-educational-perspectives-cle031026/
LOCATION:Webinar | In-Person\, 111 Broadway\, New York\, NY\, 10006\, United States
CATEGORIES:Continuing Legal Education
END:VEVENT
BEGIN:VEVENT
DTSTART;TZID=America/New_York:20260312T090000
DTEND;TZID=America/New_York:20260312T123000
DTSTAMP:20260422T162257
CREATED:20260205T190941Z
LAST-MODIFIED:20260302T203035Z
UID:10000380-1773306000-1773318600@www.nycla.org
SUMMARY:Joint Committee on Fee Disputes & Conciliation Part 137 Program — Fee Dispute Arbitration Training: Focus on Part 137 Arbitration
DESCRIPTION:
URL:https://www.nycla.org/calendar-events/joint-committee-on-fee-disputes-conciliation-part-137-program-fee-dispute-arbitration-training-focus-on-part-137-arbitration-march-12-13-2026/
LOCATION:Webinar
CATEGORIES:Continuing Legal Education
END:VEVENT
BEGIN:VEVENT
DTSTART;TZID=America/New_York:20260316T130000
DTEND;TZID=America/New_York:20260316T140000
DTSTAMP:20260422T162257
CREATED:20260120T221950Z
LAST-MODIFIED:20260223T191249Z
UID:10000376-1773666000-1773669600@www.nycla.org
SUMMARY:New FinCEN Rule to Safeguard Residential Real Estate
DESCRIPTION:
URL:https://www.nycla.org/calendar-events/new-fincen-rule-to-safeguard-residential-real-estate-cle022426/
LOCATION:Webinar
CATEGORIES:Continuing Legal Education
END:VEVENT
BEGIN:VEVENT
DTSTART;TZID=America/New_York:20260316T173000
DTEND;TZID=America/New_York:20260316T184500
DTSTAMP:20260422T162257
CREATED:20260304T193433Z
LAST-MODIFIED:20260304T193433Z
UID:10000386-1773682200-1773686700@www.nycla.org
SUMMARY:Soldier\, Scholar\, Sage: The Life and Legacies of Oliver Wendell Holmes\, Jr.
DESCRIPTION:
URL:https://www.nycla.org/calendar-events/soldier-scholar-sage-the-life-and-legacies-of-oliver-wendell-holmes-jr-cle031626/
LOCATION:Webinar
CATEGORIES:Continuing Legal Education
END:VEVENT
BEGIN:VEVENT
DTSTART;TZID=America/New_York:20260318T123000
DTEND;TZID=America/New_York:20260318T141000
DTSTAMP:20260422T162257
CREATED:20260204T194854Z
LAST-MODIFIED:20260224T193450Z
UID:10000379-1773837000-1773843000@www.nycla.org
SUMMARY:Dealing with Difficult Clients and Adversaries
DESCRIPTION:
URL:https://www.nycla.org/calendar-events/dealing-with-difficult-clients-and-adversaries-cle022626/
LOCATION:Webinar
CATEGORIES:Continuing Legal Education
END:VEVENT
BEGIN:VEVENT
DTSTART;TZID=America/New_York:20260318T170000
DTEND;TZID=America/New_York:20260318T183000
DTSTAMP:20260422T162257
CREATED:20260310T190224Z
LAST-MODIFIED:20260310T190224Z
UID:10000388-1773853200-1773858600@www.nycla.org
SUMMARY:Law and Literature Committee Meeting
DESCRIPTION:Wednesday\, March 18 @ 5PM
URL:https://www.nycla.org/calendar-events/law-and-literature-committee-meeting-11/
LOCATION:Zoom Meeting
CATEGORIES:Committee Meeting
END:VEVENT
BEGIN:VEVENT
DTSTART;TZID=America/New_York:20260318T180000
DTEND;TZID=America/New_York:20260318T193000
DTSTAMP:20260422T162257
CREATED:20260310T190805Z
LAST-MODIFIED:20260310T190805Z
UID:10000389-1773856800-1773862200@www.nycla.org
SUMMARY:Committee on Art Law Virtual Meeting
DESCRIPTION:Wednesday\, March 18 @ 6:00 PM
URL:https://www.nycla.org/calendar-events/committee-on-art-law-virtual-meeting/
LOCATION:Zoom Meeting
CATEGORIES:Committee Meeting
END:VEVENT
BEGIN:VEVENT
DTSTART;TZID=America/New_York:20260324T124500
DTEND;TZID=America/New_York:20260324T141500
DTSTAMP:20260422T162257
CREATED:20260310T185531Z
LAST-MODIFIED:20260310T185531Z
UID:10000387-1774356300-1774361700@www.nycla.org
SUMMARY:Women's History Month Program: Leading the Change: Women Shaping a Sustainable Future
DESCRIPTION:
URL:https://www.nycla.org/calendar-events/womens-history-month-program-leading-the-change-women-shaping-a-sustainable-future/
LOCATION:New York City Civil Court\, 111 Centre Street\, Room 107\, New York\, 10013
CATEGORIES:Special Event
END:VEVENT
BEGIN:VEVENT
DTSTART;TZID=America/New_York:20260325T180000
DTEND;TZID=America/New_York:20260325T200000
DTSTAMP:20260422T162257
CREATED:20260219T170642Z
LAST-MODIFIED:20260310T193809Z
UID:10000385-1774461600-1774468800@www.nycla.org
SUMMARY:A Fireside Chat with Rhonda Joy McLean
DESCRIPTION:REGISTER\n	 \n \nREGISTER HERE. \n  \nNEW! Time & Location\nMarch 25\, 2026\, 6:00 PM – 8:30 PM \n111 Broadway\, 111 Broadway\, New York\, NY 10006\, USA \nAbout the Event\nJoin the New York County Lawyers Association and the ABWA\, as we host a special fireside chat with past Ruth Whitehead Whaley Scholarship Luncheon Honoree\, Rhonda Joy McLean!!! In addition to discussing her illustrious career\, Rhonda will share leadership tactics from the third installment of her best seller\, The NEXT Little Black Book of Success.” \nRefreshments will be served.
URL:https://www.nycla.org/calendar-events/a-fireside-chat-with-rhonda-joy-mclean/
LOCATION:NY
CATEGORIES:Special Event
END:VEVENT
END:VCALENDAR