BEGIN:VCALENDAR
VERSION:2.0
PRODID:-//New York County Lawyers Association - ECPv6.15.17//NONSGML v1.0//EN
CALSCALE:GREGORIAN
METHOD:PUBLISH
X-WR-CALNAME:New York County Lawyers Association
X-ORIGINAL-URL:https://www.nycla.org
X-WR-CALDESC:Events for New York County Lawyers Association
REFRESH-INTERVAL;VALUE=DURATION:PT1H
X-Robots-Tag:noindex
X-PUBLISHED-TTL:PT1H
BEGIN:VTIMEZONE
TZID:America/New_York
BEGIN:DAYLIGHT
TZOFFSETFROM:-0500
TZOFFSETTO:-0400
TZNAME:EDT
DTSTART:20240310T070000
END:DAYLIGHT
BEGIN:STANDARD
TZOFFSETFROM:-0400
TZOFFSETTO:-0500
TZNAME:EST
DTSTART:20241103T060000
END:STANDARD
BEGIN:DAYLIGHT
TZOFFSETFROM:-0500
TZOFFSETTO:-0400
TZNAME:EDT
DTSTART:20250309T070000
END:DAYLIGHT
BEGIN:STANDARD
TZOFFSETFROM:-0400
TZOFFSETTO:-0500
TZNAME:EST
DTSTART:20251102T060000
END:STANDARD
BEGIN:DAYLIGHT
TZOFFSETFROM:-0500
TZOFFSETTO:-0400
TZNAME:EDT
DTSTART:20260308T070000
END:DAYLIGHT
BEGIN:STANDARD
TZOFFSETFROM:-0400
TZOFFSETTO:-0500
TZNAME:EST
DTSTART:20261101T060000
END:STANDARD
END:VTIMEZONE
BEGIN:VEVENT
DTSTART;TZID=America/New_York:20250402T173000
DTEND;TZID=America/New_York:20250402T184500
DTSTAMP:20260422T130910
CREATED:20250313T032846Z
LAST-MODIFIED:20250313T032846Z
UID:10000272-1743615000-1743619500@www.nycla.org
SUMMARY:Legal Careers for International LLMs in the US
DESCRIPTION:
URL:https://www.nycla.org/calendar-events/legal-careers-for-international-llms-in-the-us-cle040225/
LOCATION:Webinar
CATEGORIES:Continuing Legal Education
END:VEVENT
BEGIN:VEVENT
DTSTART;TZID=America/New_York:20250404T090000
DTEND;TZID=America/New_York:20250404T170500
DTSTAMP:20260422T130910
CREATED:20250304T204513Z
LAST-MODIFIED:20250304T204614Z
UID:10000271-1743757200-1743786300@www.nycla.org
SUMMARY:Lawyering in an AI and Cyber World
DESCRIPTION:
URL:https://www.nycla.org/calendar-events/lawyering-in-an-ai-and-cyber-world-cle040425/
LOCATION:Webinar
CATEGORIES:Continuing Legal Education
END:VEVENT
BEGIN:VEVENT
DTSTART;TZID=America/New_York:20250404T193000
DTEND;TZID=America/New_York:20250404T193000
DTSTAMP:20260422T130910
CREATED:20250402T190533Z
LAST-MODIFIED:20250402T190848Z
UID:10000284-1743795000-1743795000@www.nycla.org
SUMMARY:NYCLA Member Night Under the Big Top
DESCRIPTION:NYCLA Member Night Under the Big Top \nLUZIA by the world renowned\, incomparable Cirque du Soleil \nDate: Friday\, April 4\, 2025\, 7:30 PM \nLocation: Randall’s Island Field 20\, 21 Central Rd\, New York\, NY 10035 \nPurchase Tickets
URL:https://www.nycla.org/calendar-events/nycla-member-night-at-cirque-du-soleil/
LOCATION:In-person\, 111 Broadway\, New York\, NY\, 10006\, United States
END:VEVENT
BEGIN:VEVENT
DTSTART;TZID=America/New_York:20250407T173000
DTEND;TZID=America/New_York:20250407T190000
DTSTAMP:20260422T130910
CREATED:20250331T195213Z
LAST-MODIFIED:20250331T195213Z
UID:10000275-1744047000-1744052400@www.nycla.org
SUMMARY:NYCLA's Efforts to Protect the Rule of Law and Stand Up for the Constitution
DESCRIPTION:
URL:https://www.nycla.org/calendar-events/nyclas-efforts-to-protect-the-rule-of-law-and-stand-up-for-the-constitution-registration-040725/
LOCATION:In-Person | Zoom
END:VEVENT
BEGIN:VEVENT
DTSTART;TZID=America/New_York:20250409T173000
DTEND;TZID=America/New_York:20250409T193000
DTSTAMP:20260422T130910
CREATED:20250218T213022Z
LAST-MODIFIED:20250408T142226Z
UID:10000267-1744219800-1744227000@www.nycla.org
SUMMARY:NYCLA Reception Honoring the Judiciary
DESCRIPTION:  \n \n          Price:    NYCLA Members: Free            Non-Members  $125.00 \n  *Registration is closed\n \n 
URL:https://www.nycla.org/calendar-events/nycla-reception-honoring-the-judiciary/
LOCATION:Sixty Pine Street\, 60 Pine Street\, New York\, NY\, 10005\, United States
END:VEVENT
BEGIN:VEVENT
DTSTART;TZID=America/New_York:20250409T180000
DTEND;TZID=America/New_York:20250409T200000
DTSTAMP:20260422T130910
CREATED:20250402T181024Z
LAST-MODIFIED:20250402T181024Z
UID:10000276-1744221600-1744228800@www.nycla.org
SUMMARY:Art Law Committee Virtual Meeting
DESCRIPTION:Art Law Committee Virtual meeting
URL:https://www.nycla.org/calendar-events/art-law-committee-virtual-meeting-3/
LOCATION:Zoom Meeting
CATEGORIES:Committee Meeting
END:VEVENT
BEGIN:VEVENT
DTSTART;TZID=America/New_York:20250414T173000
DTEND;TZID=America/New_York:20250414T184500
DTSTAMP:20260422T130910
CREATED:20250317T194838Z
LAST-MODIFIED:20250317T194838Z
UID:10000273-1744651800-1744656300@www.nycla.org
SUMMARY:Lawyer\, Ballplayer\, Spy: The Many Lives of Moe Berg
DESCRIPTION:
URL:https://www.nycla.org/calendar-events/lawyer-ballplayer-spy-the-many-lives-of-moe-berg-cle041425/
LOCATION:Webinar
CATEGORIES:Continuing Legal Education
END:VEVENT
BEGIN:VEVENT
DTSTART;TZID=America/New_York:20250415T173000
DTEND;TZID=America/New_York:20250415T190000
DTSTAMP:20260422T130910
CREATED:20250402T181816Z
LAST-MODIFIED:20250402T181816Z
UID:10000277-1744738200-1744743600@www.nycla.org
SUMMARY:NYCLA Board of Directors Hybrid Meeting
DESCRIPTION:NYCLA Leadership Meeting
URL:https://www.nycla.org/calendar-events/nycla-board-of-directors-hybrid-meeting-4/
LOCATION:In-Person | Zoom
CATEGORIES:Board of Directors Meeting,Members Only
END:VEVENT
BEGIN:VEVENT
DTSTART;TZID=America/New_York:20250422T173000
DTEND;TZID=America/New_York:20250422T193000
DTSTAMP:20260422T130910
CREATED:20250402T182144Z
LAST-MODIFIED:20250402T182144Z
UID:10000278-1745343000-1745350200@www.nycla.org
SUMMARY:NYCLA Supreme Court Committee Hybrid Meeting
DESCRIPTION:NYCLA Supreme Court Committee Hybrid Meeting
URL:https://www.nycla.org/calendar-events/nycla-supreme-court-committee-hybrid-meeting-3/
LOCATION:In-Person | Zoom
CATEGORIES:Committee Meeting
END:VEVENT
BEGIN:VEVENT
DTSTART;TZID=America/New_York:20250423T170000
DTEND;TZID=America/New_York:20250423T180000
DTSTAMP:20260422T130910
CREATED:20250421T135701Z
LAST-MODIFIED:20250421T135816Z
UID:10000295-1745427600-1745431200@www.nycla.org
SUMMARY:Professional Ethics Committee Virtual Meeting
DESCRIPTION:Wednesday\, April 23rd from 5-6PM\nNew Chairs: Pierre Ciric\, Co-Chair & Joseph Vogel\, Co-Chair will hold a virtual committee meeting accessible via Zoom login.
URL:https://www.nycla.org/calendar-events/professional-ethics-committee-virtual-meeting/
LOCATION:Zoom Meeting
CATEGORIES:Committee Meeting
END:VEVENT
BEGIN:VEVENT
DTSTART;TZID=America/New_York:20250423T170000
DTEND;TZID=America/New_York:20250423T183000
DTSTAMP:20260422T130910
CREATED:20250402T183220Z
LAST-MODIFIED:20250402T183220Z
UID:10000279-1745427600-1745433000@www.nycla.org
SUMMARY:Law and Literature Committee Meeting
DESCRIPTION:Wednesday\, April 23 @ 5PM
URL:https://www.nycla.org/calendar-events/law-and-literature-committee-meeting-6/
LOCATION:Zoom Meeting
CATEGORIES:Committee Meeting
END:VEVENT
BEGIN:VEVENT
DTSTART;TZID=America/New_York:20250424T180000
DTEND;TZID=America/New_York:20250424T191500
DTSTAMP:20260422T130910
CREATED:20250321T142358Z
LAST-MODIFIED:20250422T194050Z
UID:10000274-1745517600-1745522100@www.nycla.org
SUMMARY:AI and Cybersecurity for Solo and Small Firms
DESCRIPTION:
URL:https://www.nycla.org/calendar-events/ai-and-cybersecurity-for-solo-and-small-firms-cle042425/
LOCATION:Webinar
CATEGORIES:Continuing Legal Education
END:VEVENT
END:VCALENDAR