BEGIN:VCALENDAR
VERSION:2.0
PRODID:-//New York County Lawyers Association - ECPv6.15.17//NONSGML v1.0//EN
CALSCALE:GREGORIAN
METHOD:PUBLISH
X-WR-CALNAME:New York County Lawyers Association
X-ORIGINAL-URL:https://www.nycla.org
X-WR-CALDESC:Events for New York County Lawyers Association
REFRESH-INTERVAL;VALUE=DURATION:PT1H
X-Robots-Tag:noindex
X-PUBLISHED-TTL:PT1H
BEGIN:VTIMEZONE
TZID:America/New_York
BEGIN:DAYLIGHT
TZOFFSETFROM:-0500
TZOFFSETTO:-0400
TZNAME:EDT
DTSTART:20250309T070000
END:DAYLIGHT
BEGIN:STANDARD
TZOFFSETFROM:-0400
TZOFFSETTO:-0500
TZNAME:EST
DTSTART:20251102T060000
END:STANDARD
BEGIN:DAYLIGHT
TZOFFSETFROM:-0500
TZOFFSETTO:-0400
TZNAME:EDT
DTSTART:20260308T070000
END:DAYLIGHT
BEGIN:STANDARD
TZOFFSETFROM:-0400
TZOFFSETTO:-0500
TZNAME:EST
DTSTART:20261101T060000
END:STANDARD
BEGIN:DAYLIGHT
TZOFFSETFROM:-0500
TZOFFSETTO:-0400
TZNAME:EDT
DTSTART:20270314T070000
END:DAYLIGHT
BEGIN:STANDARD
TZOFFSETFROM:-0400
TZOFFSETTO:-0500
TZNAME:EST
DTSTART:20271107T060000
END:STANDARD
END:VTIMEZONE
BEGIN:VEVENT
DTSTART;TZID=America/New_York:20260421T123000
DTEND;TZID=America/New_York:20260421T171500
DTSTAMP:20260420T113345
CREATED:20260415T161650Z
LAST-MODIFIED:20260415T161650Z
UID:10000401-1776774600-1776791700@www.nycla.org
SUMMARY:Artificial Intelligence and Access to Justice Conference
DESCRIPTION:Event Details \nArtificial Intelligence and Access to Justice \nTuesday\, April 21\, 2026 \nCheck-in: 12:30 pm to 1:00 pm \nCLE Sessions: 1:00 pm\, 2:30 pm\, 4:00 pm \nEnd Time: 5:15 pm \nIn person and on Zoom \nFordham Law School \nCostantino Room\, Second Floor \n150 West 62nd Street \nNew York\, NY 10023 \n\nThe conference is complimentary\, but advance registration is required. Register HERE.
URL:https://www.nycla.org/calendar-events/artificial-intelligence-and-access-to-justice-conference/
CATEGORIES:Special Event
END:VEVENT
END:VCALENDAR