BEGIN:VCALENDAR
VERSION:2.0
PRODID:-//New York County Lawyers Association - ECPv6.15.17//NONSGML v1.0//EN
CALSCALE:GREGORIAN
METHOD:PUBLISH
X-WR-CALNAME:New York County Lawyers Association
X-ORIGINAL-URL:https://www.nycla.org
X-WR-CALDESC:Events for New York County Lawyers Association
REFRESH-INTERVAL;VALUE=DURATION:PT1H
X-Robots-Tag:noindex
X-PUBLISHED-TTL:PT1H
BEGIN:VTIMEZONE
TZID:America/New_York
BEGIN:DAYLIGHT
TZOFFSETFROM:-0500
TZOFFSETTO:-0400
TZNAME:EDT
DTSTART:20220313T070000
END:DAYLIGHT
BEGIN:STANDARD
TZOFFSETFROM:-0400
TZOFFSETTO:-0500
TZNAME:EST
DTSTART:20221106T060000
END:STANDARD
BEGIN:DAYLIGHT
TZOFFSETFROM:-0500
TZOFFSETTO:-0400
TZNAME:EDT
DTSTART:20230312T070000
END:DAYLIGHT
BEGIN:STANDARD
TZOFFSETFROM:-0400
TZOFFSETTO:-0500
TZNAME:EST
DTSTART:20231105T060000
END:STANDARD
BEGIN:DAYLIGHT
TZOFFSETFROM:-0500
TZOFFSETTO:-0400
TZNAME:EDT
DTSTART:20240310T070000
END:DAYLIGHT
BEGIN:STANDARD
TZOFFSETFROM:-0400
TZOFFSETTO:-0500
TZNAME:EST
DTSTART:20241103T060000
END:STANDARD
END:VTIMEZONE
BEGIN:VEVENT
DTSTART;TZID=America/New_York:20231218T130000
DTEND;TZID=America/New_York:20231218T143000
DTSTAMP:20260425T213512
CREATED:20231121T201325Z
LAST-MODIFIED:20231211T181835Z
UID:10000071-1702904400-1702909800@www.nycla.org
SUMMARY:Civil Court Practice Section Committee Meeting
DESCRIPTION:
URL:https://www.nycla.org/calendar-events/nycla-civil-court-practice-section-committee-meeting/
LOCATION:Zoom Meeting
CATEGORIES:Committee Meeting,Members Only
END:VEVENT
BEGIN:VEVENT
DTSTART;TZID=America/New_York:20231219T173000
DTEND;TZID=America/New_York:20231219T193000
DTSTAMP:20260425T213512
CREATED:20231219T193200Z
LAST-MODIFIED:20231219T193200Z
UID:10000083-1703007000-1703014200@www.nycla.org
SUMMARY:Supreme Court Committee Meeting
DESCRIPTION:
URL:https://www.nycla.org/calendar-events/supreme-court-committee-meeting-2/
LOCATION:In-Person | Zoom
CATEGORIES:Committee Meeting,Members Only
END:VEVENT
END:VCALENDAR