BEGIN:VCALENDAR
VERSION:2.0
PRODID:-//New York County Lawyers Association - ECPv6.15.17//NONSGML v1.0//EN
CALSCALE:GREGORIAN
METHOD:PUBLISH
X-ORIGINAL-URL:https://www.nycla.org
X-WR-CALDESC:Events for New York County Lawyers Association
REFRESH-INTERVAL;VALUE=DURATION:PT1H
X-Robots-Tag:noindex
X-PUBLISHED-TTL:PT1H
BEGIN:VTIMEZONE
TZID:America/New_York
BEGIN:DAYLIGHT
TZOFFSETFROM:-0500
TZOFFSETTO:-0400
TZNAME:EDT
DTSTART:20230312T070000
END:DAYLIGHT
BEGIN:STANDARD
TZOFFSETFROM:-0400
TZOFFSETTO:-0500
TZNAME:EST
DTSTART:20231105T060000
END:STANDARD
BEGIN:DAYLIGHT
TZOFFSETFROM:-0500
TZOFFSETTO:-0400
TZNAME:EDT
DTSTART:20240310T070000
END:DAYLIGHT
BEGIN:STANDARD
TZOFFSETFROM:-0400
TZOFFSETTO:-0500
TZNAME:EST
DTSTART:20241103T060000
END:STANDARD
BEGIN:DAYLIGHT
TZOFFSETFROM:-0500
TZOFFSETTO:-0400
TZNAME:EDT
DTSTART:20250309T070000
END:DAYLIGHT
BEGIN:STANDARD
TZOFFSETFROM:-0400
TZOFFSETTO:-0500
TZNAME:EST
DTSTART:20251102T060000
END:STANDARD
BEGIN:DAYLIGHT
TZOFFSETFROM:-0500
TZOFFSETTO:-0400
TZNAME:EDT
DTSTART:20260308T070000
END:DAYLIGHT
BEGIN:STANDARD
TZOFFSETFROM:-0400
TZOFFSETTO:-0500
TZNAME:EST
DTSTART:20261101T060000
END:STANDARD
END:VTIMEZONE
BEGIN:VEVENT
DTSTART;TZID=America/New_York:20241029T180000
DTEND;TZID=America/New_York:20241029T200500
DTSTAMP:20260419T093242
CREATED:20241015T142040Z
LAST-MODIFIED:20241022T181156Z
UID:10000201-1730224800-1730232300@www.nycla.org
SUMMARY:Fall 3 Evening Bridge the Gap 2024 Option B
DESCRIPTION:
URL:https://www.nycla.org/calendar-events/fall-3-evening-bridge-the-gap-2024-option-b-cle102924/
LOCATION:Webinar
CATEGORIES:Continuing Legal Education
END:VEVENT
BEGIN:VEVENT
DTSTART;TZID=America/New_York:20241106T173000
DTEND;TZID=America/New_York:20241106T203000
DTSTAMP:20260419T093242
CREATED:20241010T211227Z
LAST-MODIFIED:20241010T211227Z
UID:10000195-1730914200-1730925000@www.nycla.org
SUMMARY:Corporate Governance - Understanding the Board-Management Relationship
DESCRIPTION:
URL:https://www.nycla.org/calendar-events/corporate-governance-understanding-the-board-management-relationship-cle110624/
LOCATION:Webinar
CATEGORIES:Continuing Legal Education
END:VEVENT
BEGIN:VEVENT
DTSTART;TZID=America/New_York:20241112T123000
DTEND;TZID=America/New_York:20241112T134500
DTSTAMP:20260419T093242
CREATED:20241029T175145Z
LAST-MODIFIED:20241029T175145Z
UID:10000208-1731414600-1731419100@www.nycla.org
SUMMARY:Diversity in the Law Firm\, in the Corporate Legal Department & in the Courts: A Crucial Component for a Better Legal System
DESCRIPTION:
URL:https://www.nycla.org/calendar-events/diversity-in-the-law-firm-in-the-corporate-legal-department-in-the-courts-a-crucial-component-for-a-better-legal-system-cle111224/
LOCATION:Zoom Video Replay
CATEGORIES:Continuing Legal Education
END:VEVENT
BEGIN:VEVENT
DTSTART;TZID=America/New_York:20241118T173000
DTEND;TZID=America/New_York:20241118T184500
DTSTAMP:20260419T093242
CREATED:20241011T173134Z
LAST-MODIFIED:20241011T164422Z
UID:10000197-1731951000-1731955500@www.nycla.org
SUMMARY:The American Presidency & the Constitution: A Study in Political Power\, the Law & Culture
DESCRIPTION:
URL:https://www.nycla.org/calendar-events/the-american-presidency-the-constitution-a-study-in-political-power-the-law-culture-cle111824/
LOCATION:Webinar
CATEGORIES:Continuing Legal Education
END:VEVENT
BEGIN:VEVENT
DTSTART;TZID=America/New_York:20241118T173000
DTEND;TZID=America/New_York:20241118T203000
DTSTAMP:20260419T093242
CREATED:20241011T220209Z
LAST-MODIFIED:20241011T171320Z
UID:10000199-1731951000-1731961800@www.nycla.org
SUMMARY:The American Presidency & the Constitution/ Protecting Against Scams\, Data Breaches\, and Ethical Responsibilities in Case of a Data Breach
DESCRIPTION:
URL:https://www.nycla.org/calendar-events/the-american-presidency-the-constitution-protecting-against-scams-data-breaches-and-ethical-responsibilities-in-case-of-a-data-breach-cle111824b/
LOCATION:Webinar
CATEGORIES:Continuing Legal Education
END:VEVENT
BEGIN:VEVENT
DTSTART;TZID=America/New_York:20241118T184500
DTEND;TZID=America/New_York:20241118T203000
DTSTAMP:20260419T093242
CREATED:20241011T200021Z
LAST-MODIFIED:20241011T165300Z
UID:10000196-1731955500-1731961800@www.nycla.org
SUMMARY:Protecting Against Scams\, Data Breaches\, and Ethical Responsibilities in Case of a Data Breach
DESCRIPTION:
URL:https://www.nycla.org/calendar-events/protecting-against-scams-data-breaches-and-ethical-responsibilities-in-case-of-a-data-breach-cle111824a/
LOCATION:Webinar
CATEGORIES:Continuing Legal Education
END:VEVENT
BEGIN:VEVENT
DTSTART;TZID=America/New_York:20241119T173000
DTEND;TZID=America/New_York:20241119T193500
DTSTAMP:20260419T093242
CREATED:20241022T190911Z
LAST-MODIFIED:20241022T190911Z
UID:10000206-1732037400-1732044900@www.nycla.org
SUMMARY:Emerging Trends – Updated Statutes – Ongoing Challenges: A Conversation About Human Trafficking
DESCRIPTION:
URL:https://www.nycla.org/calendar-events/emerging-trends-updated-statutes-ongoing-challenges-a-conversation-about-human-trafficking-cle111924/
LOCATION:Webinar
CATEGORIES:Continuing Legal Education
END:VEVENT
BEGIN:VEVENT
DTSTART;TZID=America/New_York:20241121T173000
DTEND;TZID=America/New_York:20241121T190000
DTSTAMP:20260419T093242
CREATED:20241029T164308Z
LAST-MODIFIED:20241029T164308Z
UID:10000207-1732210200-1732215600@www.nycla.org
SUMMARY:Knowing Your Personal Brand: Networking\, Interviewing\, Social Media and Work Etiquette
DESCRIPTION:
URL:https://www.nycla.org/calendar-events/knowing-your-personal-brand-networking-interviewing-social-media-and-work-etiquette-cle112124/
LOCATION:Webinar | In-Person\, 111 Broadway\, New York\, NY\, 10006\, United States
CATEGORIES:Continuing Legal Education
END:VEVENT
BEGIN:VEVENT
DTSTART;TZID=America/New_York:20241126T093000
DTEND;TZID=America/New_York:20241126T120000
DTSTAMP:20260419T093242
CREATED:20241113T063024Z
LAST-MODIFIED:20241113T190818Z
UID:10000224-1732613400-1732622400@www.nycla.org
SUMMARY:Overview of New Legislation for Rental Housing Providers: Good Cause Eviction and Individual Apartment Improvements
DESCRIPTION:
URL:https://www.nycla.org/calendar-events/overview-of-new-legislation-for-rental-housing-providers-good-cause-eviction-and-individual-apartment-improvements-cle112624/
LOCATION:Webinar | In-Person\, 111 Broadway\, New York\, NY\, 10006\, United States
CATEGORIES:Continuing Legal Education
END:VEVENT
BEGIN:VEVENT
DTSTART;TZID=America/New_York:20241204T123000
DTEND;TZID=America/New_York:20241204T133000
DTSTAMP:20260419T093242
CREATED:20241107T183837Z
LAST-MODIFIED:20241107T183837Z
UID:10000211-1733315400-1733319000@www.nycla.org
SUMMARY:Current Trends in Attorney Fees: Flat Fees\, Subscriptions and Fiduciary Duty
DESCRIPTION:
URL:https://www.nycla.org/calendar-events/current-trends-in-attorney-fees-flat-fees-subscriptions-and-fiduciary-duty-cle120424/
LOCATION:Webinar
CATEGORIES:Continuing Legal Education
END:VEVENT
BEGIN:VEVENT
DTSTART;TZID=America/New_York:20241205T123000
DTEND;TZID=America/New_York:20241205T141000
DTSTAMP:20260419T093242
CREATED:20241104T213655Z
LAST-MODIFIED:20241114T192221Z
UID:10000209-1733401800-1733407800@www.nycla.org
SUMMARY:Navigating Financial Exploitation: What to do When Your Senior Client\, Family Member or Friend is a Victim of Financial Fraud or Abuse
DESCRIPTION:
URL:https://www.nycla.org/calendar-events/navigating-financial-fraud-what-to-do-when-your-senior-client-family-member-or-friend-is-a-victim-of-financial-fraud-or-abuse-cle120524/
LOCATION:Webinar
CATEGORIES:Continuing Legal Education
END:VEVENT
BEGIN:VEVENT
DTSTART;TZID=America/New_York:20241210T173000
DTEND;TZID=America/New_York:20241210T184500
DTSTAMP:20260419T093242
CREATED:20241122T190032Z
LAST-MODIFIED:20241206T211746Z
UID:10000233-1733851800-1733856300@www.nycla.org
SUMMARY:The Military Pay System and Its Relationship to Divorce and Child Support
DESCRIPTION:
URL:https://www.nycla.org/calendar-events/the-military-pay-system-and-its-relationship-to-divorce-and-child-support-cle121024/
LOCATION:Webinar
CATEGORIES:Continuing Legal Education
END:VEVENT
BEGIN:VEVENT
DTSTART;TZID=America/New_York:20241211T090000
DTEND;TZID=America/New_York:20241211T170500
DTSTAMP:20260419T093242
CREATED:20241107T185022Z
LAST-MODIFIED:20241107T185022Z
UID:10000212-1733907600-1733936700@www.nycla.org
SUMMARY:Certified Guardian\, Court Evaluator and Counsel for AIP Training: Certification Program Approved by the Office of Court Administration
DESCRIPTION:
URL:https://www.nycla.org/calendar-events/certified-guardian-court-evaluator-and-counsel-for-aip-training-certification-program-approved-by-the-office-of-court-administration-cle121124/
LOCATION:Webinar
CATEGORIES:Continuing Legal Education
END:VEVENT
BEGIN:VEVENT
DTSTART;TZID=America/New_York:20241213T084500
DTEND;TZID=America/New_York:20241213T105500
DTSTAMP:20260419T093242
CREATED:20241112T195239Z
LAST-MODIFIED:20241112T195239Z
UID:10000223-1734079500-1734087300@www.nycla.org
SUMMARY:Law Firm Financial Management
DESCRIPTION:
URL:https://www.nycla.org/calendar-events/law-firm-financial-management-cle121324a/
LOCATION:Webinar
CATEGORIES:Continuing Legal Education
END:VEVENT
BEGIN:VEVENT
DTSTART;TZID=America/New_York:20241213T084500
DTEND;TZID=America/New_York:20241213T165500
DTSTAMP:20260419T093242
CREATED:20241107T210008Z
LAST-MODIFIED:20241107T191827Z
UID:10000213-1734079500-1734108900@www.nycla.org
SUMMARY:December Bridge the Gap
DESCRIPTION:
URL:https://www.nycla.org/calendar-events/december-bridge-the-gap-cle121324/
LOCATION:Webinar
CATEGORIES:Continuing Legal Education
END:VEVENT
BEGIN:VEVENT
DTSTART;TZID=America/New_York:20241213T110000
DTEND;TZID=America/New_York:20241213T120000
DTSTAMP:20260419T093242
CREATED:20241203T194927Z
LAST-MODIFIED:20241203T194927Z
UID:10000235-1734087600-1734091200@www.nycla.org
SUMMARY:What Happens When Someone Dies Without a Will
DESCRIPTION:
URL:https://www.nycla.org/calendar-events/what-happens-when-someone-dies-without-a-will-cle121324e/
LOCATION:Webinar
CATEGORIES:Continuing Legal Education
END:VEVENT
BEGIN:VEVENT
DTSTART;TZID=America/New_York:20241213T120000
DTEND;TZID=America/New_York:20241213T130000
DTSTAMP:20260419T093242
CREATED:20241112T195942Z
LAST-MODIFIED:20241112T195942Z
UID:10000221-1734091200-1734094800@www.nycla.org
SUMMARY:Drafting an Effective Power of Attorney
DESCRIPTION:
URL:https://www.nycla.org/calendar-events/drafting-an-effective-power-of-attorney-cle121324c/
LOCATION:Webinar
CATEGORIES:Continuing Legal Education
END:VEVENT
BEGIN:VEVENT
DTSTART;TZID=America/New_York:20241213T133000
DTEND;TZID=America/New_York:20241213T165500
DTSTAMP:20260419T093242
CREATED:20241112T200544Z
LAST-MODIFIED:20241112T200544Z
UID:10000220-1734096600-1734108900@www.nycla.org
SUMMARY:Winning Your Case with a Better Memory
DESCRIPTION:
URL:https://www.nycla.org/calendar-events/winning-your-case-with-a-better-memory-cle121324d/
LOCATION:Webinar
CATEGORIES:Continuing Legal Education
END:VEVENT
BEGIN:VEVENT
DTSTART;TZID=America/New_York:20241216T173000
DTEND;TZID=America/New_York:20241216T183000
DTSTAMP:20260419T093242
CREATED:20241126T230150Z
LAST-MODIFIED:20241126T230150Z
UID:10000234-1734370200-1734373800@www.nycla.org
SUMMARY:Diversity\, Equity and Inclusion and the Legal Profession
DESCRIPTION:
URL:https://www.nycla.org/calendar-events/diversity-equity-and-inclusion-and-the-legal-profession-cle121624/
LOCATION:Webinar
CATEGORIES:Continuing Legal Education
END:VEVENT
BEGIN:VEVENT
DTSTART;TZID=America/New_York:20241219T120000
DTEND;TZID=America/New_York:20241219T130000
DTSTAMP:20260419T093242
CREATED:20241108T184233Z
LAST-MODIFIED:20241112T200816Z
UID:10000219-1734609600-1734613200@www.nycla.org
SUMMARY:Safer Today\, Stronger Tomorrow: Essential Self Defense Techniques for Attorneys
DESCRIPTION:
URL:https://www.nycla.org/calendar-events/safer-today-stronger-tomorrow-essential-self-defense-techniques-for-attorneys-cle121924/
LOCATION:Webinar
CATEGORIES:Continuing Legal Education
END:VEVENT
BEGIN:VEVENT
DTSTART;TZID=America/New_York:20250113T173000
DTEND;TZID=America/New_York:20250113T200000
DTSTAMP:20260419T093242
CREATED:20241212T213044Z
LAST-MODIFIED:20241212T204541Z
UID:10000239-1736789400-1736798400@www.nycla.org
SUMMARY:CPLR Update 2025
DESCRIPTION:
URL:https://www.nycla.org/calendar-events/cplr-update-2025-cle011325/
LOCATION:Webinar
CATEGORIES:Continuing Legal Education
END:VEVENT
BEGIN:VEVENT
DTSTART;TZID=America/New_York:20250113T173000
DTEND;TZID=America/New_York:20250113T200000
DTSTAMP:20260419T093242
CREATED:20241220T213552Z
LAST-MODIFIED:20241220T184403Z
UID:10000248-1736789400-1736798400@www.nycla.org
SUMMARY:Winter 2025 3 Evening Bridge the Gap
DESCRIPTION:
URL:https://www.nycla.org/calendar-events/winter-2025-3-evening-bridge-the-gap-cle011325a/
LOCATION:Webinar
CATEGORIES:Continuing Legal Education
END:VEVENT
BEGIN:VEVENT
DTSTART;TZID=America/New_York:20250114T180000
DTEND;TZID=America/New_York:20250114T193500
DTSTAMP:20260419T093242
CREATED:20241213T063937Z
LAST-MODIFIED:20241213T063937Z
UID:10000240-1736877600-1736883300@www.nycla.org
SUMMARY:So\, You're Interested in a Career in the Courts?
DESCRIPTION:
URL:https://www.nycla.org/calendar-events/so-youre-interested-in-a-career-in-the-courts-cle011424/
LOCATION:Webinar
CATEGORIES:Continuing Legal Education
END:VEVENT
BEGIN:VEVENT
DTSTART;TZID=America/New_York:20250122T180000
DTEND;TZID=America/New_York:20250122T200500
DTSTAMP:20260419T093242
CREATED:20241219T215426Z
LAST-MODIFIED:20241219T215426Z
UID:10000244-1737568800-1737576300@www.nycla.org
SUMMARY:Amicus Curiae – Candidly Speaking: A Discussion on the Trust in Government Project
DESCRIPTION:
URL:https://www.nycla.org/calendar-events/amicus-curiae-candidly-speaking-a-discussion-on-the-trust-in-government-project-cle012224/
LOCATION:Webinar | In-Person\, 111 Broadway\, New York\, NY\, 10006\, United States
CATEGORIES:Continuing Legal Education
END:VEVENT
BEGIN:VEVENT
DTSTART;TZID=America/New_York:20250123T173000
DTEND;TZID=America/New_York:20250123T184500
DTSTAMP:20260419T093242
CREATED:20241219T061430Z
LAST-MODIFIED:20241219T061430Z
UID:10000243-1737653400-1737657900@www.nycla.org
SUMMARY:Using AI and State Court Data to Automate Litigation Tasks
DESCRIPTION:
URL:https://www.nycla.org/calendar-events/using-ai-and-state-court-data-to-automate-litigation-tasks-cle012325/
LOCATION:Webinar
CATEGORIES:Continuing Legal Education
END:VEVENT
BEGIN:VEVENT
DTSTART;TZID=America/New_York:20250123T173000
DTEND;TZID=America/New_York:20250123T200000
DTSTAMP:20260419T093242
CREATED:20241219T062125Z
LAST-MODIFIED:20241219T062125Z
UID:10000241-1737653400-1737662400@www.nycla.org
SUMMARY:Using AI and State Court Data to Automate Litigation Tasks/Protecting Against Scams & Data Breaches
DESCRIPTION:
URL:https://www.nycla.org/calendar-events/using-ai-and-state-court-data-to-automate-litigation-tasks-protecting-against-scams-data-breaches-cle012325b/
LOCATION:Webinar
CATEGORIES:Continuing Legal Education
END:VEVENT
BEGIN:VEVENT
DTSTART;TZID=America/New_York:20250123T184500
DTEND;TZID=America/New_York:20250123T200000
DTSTAMP:20260419T093242
CREATED:20241219T061613Z
LAST-MODIFIED:20241219T061613Z
UID:10000242-1737657900-1737662400@www.nycla.org
SUMMARY:Protecting Against Scams and Data Breaches
DESCRIPTION:
URL:https://www.nycla.org/calendar-events/protecting-against-scams-and-data-breaches-cle012325a/
LOCATION:Webinar
CATEGORIES:Continuing Legal Education
END:VEVENT
BEGIN:VEVENT
DTSTART;TZID=America/New_York:20250127T173000
DTEND;TZID=America/New_York:20250127T184500
DTSTAMP:20260419T093242
CREATED:20241220T053237Z
LAST-MODIFIED:20241220T053237Z
UID:10000245-1737999000-1738003500@www.nycla.org
SUMMARY:Fact\, Fiction and the French Connection
DESCRIPTION:
URL:https://www.nycla.org/calendar-events/fact-fiction-and-the-french-connection-cle012725/
LOCATION:Webinar
CATEGORIES:Continuing Legal Education
END:VEVENT
BEGIN:VEVENT
DTSTART;TZID=America/New_York:20250127T173000
DTEND;TZID=America/New_York:20250127T200000
DTSTAMP:20260419T093242
CREATED:20241220T212423Z
LAST-MODIFIED:20241220T182557Z
UID:10000247-1737999000-1738008000@www.nycla.org
SUMMARY:Fact\, Fiction and the French Connection/What's the Weather Outside? Understanding the Weather Record and the Role it May Play in Your Client's Case
DESCRIPTION:
URL:https://www.nycla.org/calendar-events/fact-fiction-and-the-french-connection-whats-the-weather-outside-understanding-the-weather-record-and-the-role-it-may-play-in-your-clients-case-cle012725b/
LOCATION:Webinar
CATEGORIES:Continuing Legal Education
END:VEVENT
BEGIN:VEVENT
DTSTART;TZID=America/New_York:20250127T184500
DTEND;TZID=America/New_York:20250127T201000
DTSTAMP:20260419T093242
CREATED:20241220T054902Z
LAST-MODIFIED:20241220T054902Z
UID:10000246-1738003500-1738008600@www.nycla.org
SUMMARY:What's the Weather Outside? Understanding the Weather Record and the Unique Role it May Play in Your Client's Case
DESCRIPTION:
URL:https://www.nycla.org/calendar-events/whats-the-weather-outside-understanding-the-weather-record-and-the-unique-role-it-may-play-in-your-clients-case-cle012725a/
LOCATION:Webinar
CATEGORIES:Continuing Legal Education
END:VEVENT
END:VCALENDAR