BEGIN:VCALENDAR
VERSION:2.0
PRODID:-//New York County Lawyers Association - ECPv6.15.17//NONSGML v1.0//EN
CALSCALE:GREGORIAN
METHOD:PUBLISH
X-WR-CALNAME:New York County Lawyers Association
X-ORIGINAL-URL:https://www.nycla.org
X-WR-CALDESC:Events for New York County Lawyers Association
REFRESH-INTERVAL;VALUE=DURATION:PT1H
X-Robots-Tag:noindex
X-PUBLISHED-TTL:PT1H
BEGIN:VTIMEZONE
TZID:America/New_York
BEGIN:DAYLIGHT
TZOFFSETFROM:-0500
TZOFFSETTO:-0400
TZNAME:EDT
DTSTART:20240310T070000
END:DAYLIGHT
BEGIN:STANDARD
TZOFFSETFROM:-0400
TZOFFSETTO:-0500
TZNAME:EST
DTSTART:20241103T060000
END:STANDARD
BEGIN:DAYLIGHT
TZOFFSETFROM:-0500
TZOFFSETTO:-0400
TZNAME:EDT
DTSTART:20250309T070000
END:DAYLIGHT
BEGIN:STANDARD
TZOFFSETFROM:-0400
TZOFFSETTO:-0500
TZNAME:EST
DTSTART:20251102T060000
END:STANDARD
BEGIN:DAYLIGHT
TZOFFSETFROM:-0500
TZOFFSETTO:-0400
TZNAME:EDT
DTSTART:20260308T070000
END:DAYLIGHT
BEGIN:STANDARD
TZOFFSETFROM:-0400
TZOFFSETTO:-0500
TZNAME:EST
DTSTART:20261101T060000
END:STANDARD
END:VTIMEZONE
BEGIN:VEVENT
DTSTART;TZID=America/New_York:20250501T093000
DTEND;TZID=America/New_York:20250501T134500
DTSTAMP:20260420T115424
CREATED:20250404T225258Z
LAST-MODIFIED:20250404T225258Z
UID:10000285-1746091800-1746107100@www.nycla.org
SUMMARY:48th Civil Trial Practice Institute: 2 Half Days - A Bridge the Gap for Litigators
DESCRIPTION:
URL:https://www.nycla.org/calendar-events/48th-civil-trial-practice-institute-2-half-days-bridge-the-gap-for-litigators-cle050125/
LOCATION:Webinar
CATEGORIES:Continuing Legal Education
END:VEVENT
BEGIN:VEVENT
DTSTART;TZID=America/New_York:20250501T093000
DTEND;TZID=America/New_York:20250501T134500
DTSTAMP:20260420T115424
CREATED:20250404T230125Z
LAST-MODIFIED:20250404T230125Z
UID:10000286-1746091800-1746107100@www.nycla.org
SUMMARY:48th Civil Trial Practice Institute: Day 1 ONLY\, Preparing for Trial
DESCRIPTION:
URL:https://www.nycla.org/calendar-events/48th-civil-trial-practice-institute-day-1-only-preparing-for-trial-cle050125a/
LOCATION:Webinar
CATEGORIES:Continuing Legal Education
END:VEVENT
END:VCALENDAR