BEGIN:VCALENDAR
VERSION:2.0
PRODID:-//New York County Lawyers Association - ECPv6.15.17//NONSGML v1.0//EN
CALSCALE:GREGORIAN
METHOD:PUBLISH
X-ORIGINAL-URL:https://www.nycla.org
X-WR-CALDESC:Events for New York County Lawyers Association
REFRESH-INTERVAL;VALUE=DURATION:PT1H
X-Robots-Tag:noindex
X-PUBLISHED-TTL:PT1H
BEGIN:VTIMEZONE
TZID:America/New_York
BEGIN:DAYLIGHT
TZOFFSETFROM:-0500
TZOFFSETTO:-0400
TZNAME:EDT
DTSTART:20240310T070000
END:DAYLIGHT
BEGIN:STANDARD
TZOFFSETFROM:-0400
TZOFFSETTO:-0500
TZNAME:EST
DTSTART:20241103T060000
END:STANDARD
BEGIN:DAYLIGHT
TZOFFSETFROM:-0500
TZOFFSETTO:-0400
TZNAME:EDT
DTSTART:20250309T070000
END:DAYLIGHT
BEGIN:STANDARD
TZOFFSETFROM:-0400
TZOFFSETTO:-0500
TZNAME:EST
DTSTART:20251102T060000
END:STANDARD
BEGIN:DAYLIGHT
TZOFFSETFROM:-0500
TZOFFSETTO:-0400
TZNAME:EDT
DTSTART:20260308T070000
END:DAYLIGHT
BEGIN:STANDARD
TZOFFSETFROM:-0400
TZOFFSETTO:-0500
TZNAME:EST
DTSTART:20261101T060000
END:STANDARD
END:VTIMEZONE
BEGIN:VEVENT
DTSTART;TZID=America/New_York:20250127T173000
DTEND;TZID=America/New_York:20250127T184500
DTSTAMP:20260419T142957
CREATED:20241220T053237Z
LAST-MODIFIED:20241220T053237Z
UID:10000245-1737999000-1738003500@www.nycla.org
SUMMARY:Fact\, Fiction and the French Connection
DESCRIPTION:
URL:https://www.nycla.org/calendar-events/fact-fiction-and-the-french-connection-cle012725/
LOCATION:Webinar
CATEGORIES:Continuing Legal Education
END:VEVENT
BEGIN:VEVENT
DTSTART;TZID=America/New_York:20250127T173000
DTEND;TZID=America/New_York:20250127T200000
DTSTAMP:20260419T142957
CREATED:20241220T212423Z
LAST-MODIFIED:20241220T182557Z
UID:10000247-1737999000-1738008000@www.nycla.org
SUMMARY:Fact\, Fiction and the French Connection/What's the Weather Outside? Understanding the Weather Record and the Role it May Play in Your Client's Case
DESCRIPTION:
URL:https://www.nycla.org/calendar-events/fact-fiction-and-the-french-connection-whats-the-weather-outside-understanding-the-weather-record-and-the-role-it-may-play-in-your-clients-case-cle012725b/
LOCATION:Webinar
CATEGORIES:Continuing Legal Education
END:VEVENT
BEGIN:VEVENT
DTSTART;TZID=America/New_York:20250127T184500
DTEND;TZID=America/New_York:20250127T201000
DTSTAMP:20260419T142957
CREATED:20241220T054902Z
LAST-MODIFIED:20241220T054902Z
UID:10000246-1738003500-1738008600@www.nycla.org
SUMMARY:What's the Weather Outside? Understanding the Weather Record and the Unique Role it May Play in Your Client's Case
DESCRIPTION:
URL:https://www.nycla.org/calendar-events/whats-the-weather-outside-understanding-the-weather-record-and-the-unique-role-it-may-play-in-your-clients-case-cle012725a/
LOCATION:Webinar
CATEGORIES:Continuing Legal Education
END:VEVENT
END:VCALENDAR