BEGIN:VCALENDAR
VERSION:2.0
PRODID:-//New York County Lawyers Association - ECPv6.15.17//NONSGML v1.0//EN
CALSCALE:GREGORIAN
METHOD:PUBLISH
X-ORIGINAL-URL:https://www.nycla.org
X-WR-CALDESC:Events for New York County Lawyers Association
REFRESH-INTERVAL;VALUE=DURATION:PT1H
X-Robots-Tag:noindex
X-PUBLISHED-TTL:PT1H
BEGIN:VTIMEZONE
TZID:America/New_York
BEGIN:DAYLIGHT
TZOFFSETFROM:-0500
TZOFFSETTO:-0400
TZNAME:EDT
DTSTART:20230312T070000
END:DAYLIGHT
BEGIN:STANDARD
TZOFFSETFROM:-0400
TZOFFSETTO:-0500
TZNAME:EST
DTSTART:20231105T060000
END:STANDARD
BEGIN:DAYLIGHT
TZOFFSETFROM:-0500
TZOFFSETTO:-0400
TZNAME:EDT
DTSTART:20240310T070000
END:DAYLIGHT
BEGIN:STANDARD
TZOFFSETFROM:-0400
TZOFFSETTO:-0500
TZNAME:EST
DTSTART:20241103T060000
END:STANDARD
BEGIN:DAYLIGHT
TZOFFSETFROM:-0500
TZOFFSETTO:-0400
TZNAME:EDT
DTSTART:20250309T070000
END:DAYLIGHT
BEGIN:STANDARD
TZOFFSETFROM:-0400
TZOFFSETTO:-0500
TZNAME:EST
DTSTART:20251102T060000
END:STANDARD
END:VTIMEZONE
BEGIN:VEVENT
DTSTART;TZID=America/New_York:20240502T093000
DTEND;TZID=America/New_York:20240502T134500
DTSTAMP:20260425T223354
CREATED:20240408T160030Z
LAST-MODIFIED:20240408T022156Z
UID:10000130-1714642200-1714657500@www.nycla.org
SUMMARY:47th Civil Trial Practice Institute: Day 1 ONLY – Preparing for Trial
DESCRIPTION:
URL:https://www.nycla.org/calendar-events/47th-civil-trial-practice-institute-day-1-only-preparing-for-trial-cle050224a/
LOCATION:Webinar
CATEGORIES:Continuing Legal Education
END:VEVENT
BEGIN:VEVENT
DTSTART;TZID=America/New_York:20240502T093000
DTEND;TZID=America/New_York:20240503T134500
DTSTAMP:20260425T223354
CREATED:20240405T203009Z
LAST-MODIFIED:20240405T172626Z
UID:10000129-1714642200-1714743900@www.nycla.org
SUMMARY:47th Civil Trial Practice Institute: 2 Half Days Bridge the Gap for Litigators
DESCRIPTION:
URL:https://www.nycla.org/calendar-events/47th-civil-trial-practice-institute-2-half-days-bridge-the-gap-for-litigators/
LOCATION:Webinar
CATEGORIES:Continuing Legal Education
END:VEVENT
END:VCALENDAR