BEGIN:VCALENDAR
VERSION:2.0
PRODID:-//New York County Lawyers Association - ECPv6.15.17//NONSGML v1.0//EN
CALSCALE:GREGORIAN
METHOD:PUBLISH
X-WR-CALNAME:New York County Lawyers Association
X-ORIGINAL-URL:https://www.nycla.org
X-WR-CALDESC:Events for New York County Lawyers Association
REFRESH-INTERVAL;VALUE=DURATION:PT1H
X-Robots-Tag:noindex
X-PUBLISHED-TTL:PT1H
BEGIN:VTIMEZONE
TZID:America/New_York
BEGIN:DAYLIGHT
TZOFFSETFROM:-0500
TZOFFSETTO:-0400
TZNAME:EDT
DTSTART:20240310T070000
END:DAYLIGHT
BEGIN:STANDARD
TZOFFSETFROM:-0400
TZOFFSETTO:-0500
TZNAME:EST
DTSTART:20241103T060000
END:STANDARD
BEGIN:DAYLIGHT
TZOFFSETFROM:-0500
TZOFFSETTO:-0400
TZNAME:EDT
DTSTART:20250309T070000
END:DAYLIGHT
BEGIN:STANDARD
TZOFFSETFROM:-0400
TZOFFSETTO:-0500
TZNAME:EST
DTSTART:20251102T060000
END:STANDARD
BEGIN:DAYLIGHT
TZOFFSETFROM:-0500
TZOFFSETTO:-0400
TZNAME:EDT
DTSTART:20260308T070000
END:DAYLIGHT
BEGIN:STANDARD
TZOFFSETFROM:-0400
TZOFFSETTO:-0500
TZNAME:EST
DTSTART:20261101T060000
END:STANDARD
END:VTIMEZONE
BEGIN:VEVENT
DTSTART;TZID=America/New_York:20250206T171500
DTEND;TZID=America/New_York:20250206T200000
DTSTAMP:20260419T123930
CREATED:20250127T172238Z
LAST-MODIFIED:20250127T172238Z
UID:10000251-1738862100-1738872000@www.nycla.org
SUMMARY:February 3 Evening Bridge the Gap Session A
DESCRIPTION:
URL:https://www.nycla.org/calendar-events/february-3-evening-bridge-the-gap-session-a-cle020625a/
LOCATION:Webinar
CATEGORIES:Continuing Legal Education
END:VEVENT
BEGIN:VEVENT
DTSTART;TZID=America/New_York:20250206T171500
DTEND;TZID=America/New_York:20250206T201500
DTSTAMP:20260419T123930
CREATED:20241231T190003Z
LAST-MODIFIED:20250106T191020Z
UID:10000249-1738862100-1738872900@www.nycla.org
SUMMARY:Succession Planning for Businesses – A Strategic Imperative
DESCRIPTION:
URL:https://www.nycla.org/calendar-events/succession-planning-for-businesses-strategic-imperative-cle020625/
LOCATION:Webinar | In-Person\, 111 Broadway\, New York\, NY\, 10006\, United States
CATEGORIES:Continuing Legal Education
END:VEVENT
BEGIN:VEVENT
DTSTART;TZID=America/New_York:20250212T173000
DTEND;TZID=America/New_York:20250212T200000
DTSTAMP:20260419T123930
CREATED:20250127T224814Z
LAST-MODIFIED:20250127T224834Z
UID:10000252-1739381400-1739390400@www.nycla.org
SUMMARY:How to Handle a Real Estate Closing
DESCRIPTION:
URL:https://www.nycla.org/calendar-events/how-to-handle-a-real-estate-closing-cle021225/
LOCATION:Webinar
CATEGORIES:Continuing Legal Education
END:VEVENT
BEGIN:VEVENT
DTSTART;TZID=America/New_York:20250212T173000
DTEND;TZID=America/New_York:20250212T200000
DTSTAMP:20260419T123930
CREATED:20250207T190954Z
LAST-MODIFIED:20250207T190954Z
UID:10000257-1739381400-1739390400@www.nycla.org
SUMMARY:February Bridge the Gap Session B
DESCRIPTION:
URL:https://www.nycla.org/calendar-events/february-bridge-the-gap-session-b-cle021225a/
LOCATION:Webinar
CATEGORIES:Continuing Legal Education
END:VEVENT
BEGIN:VEVENT
DTSTART;TZID=America/New_York:20250224T173000
DTEND;TZID=America/New_York:20250224T184500
DTSTAMP:20260419T123930
CREATED:20250128T214748Z
LAST-MODIFIED:20250128T210926Z
UID:10000254-1740418200-1740422700@www.nycla.org
SUMMARY:Keep the Faith Baby: The Legacy of Adam Clayton Powell in Celebration of Black History Month
DESCRIPTION:
URL:https://www.nycla.org/calendar-events/keep-the-faith-baby-the-legacy-of-adam-clayton-powell-in-celebration-of-black-history-month-cle022425a/
LOCATION:Webinar
CATEGORIES:Continuing Legal Education
END:VEVENT
BEGIN:VEVENT
DTSTART;TZID=America/New_York:20250224T173000
DTEND;TZID=America/New_York:20250224T200000
DTSTAMP:20260419T123930
CREATED:20250128T180935Z
LAST-MODIFIED:20250128T180935Z
UID:10000253-1740418200-1740427200@www.nycla.org
SUMMARY:Keep the Faith Baby: The Legacy of Adam Clayton Powell in Celebration of Black History Month / Forensic Psychology 101: What Lawyers Need to Know
DESCRIPTION:
URL:https://www.nycla.org/calendar-events/keep-the-faith-baby-the-legacy-of-adam-clayton-powell-in-celebration-of-black-history-month-forensic-psychology-101-what-lawyers-need-to-know-cle022425/
LOCATION:Webinar
CATEGORIES:Continuing Legal Education
END:VEVENT
BEGIN:VEVENT
DTSTART;TZID=America/New_York:20250224T184500
DTEND;TZID=America/New_York:20250224T200000
DTSTAMP:20260419T123930
CREATED:20250128T231117Z
LAST-MODIFIED:20250128T211221Z
UID:10000255-1740422700-1740427200@www.nycla.org
SUMMARY:Forensic Psychology 101: What Lawyers Need to Know
DESCRIPTION:
URL:https://www.nycla.org/calendar-events/forensic-psychology-101-what-lawyers-need-to-know-cle022425b/
LOCATION:Webinar
CATEGORIES:Continuing Legal Education
END:VEVENT
BEGIN:VEVENT
DTSTART;TZID=America/New_York:20250225T100500
DTEND;TZID=America/New_York:20250225T120500
DTSTAMP:20260419T123930
CREATED:20250213T211833Z
LAST-MODIFIED:20250213T212510Z
UID:10000261-1740477900-1740485100@www.nycla.org
SUMMARY:Lead Paint Violations – HP Actions and Audits
DESCRIPTION:
URL:https://www.nycla.org/calendar-events/lead-paint-violations-hp-actions-and-audits-cle022525e/
LOCATION:Webinar
CATEGORIES:Continuing Legal Education
END:VEVENT
BEGIN:VEVENT
DTSTART;TZID=America/New_York:20250227T173000
DTEND;TZID=America/New_York:20250227T200000
DTSTAMP:20260419T123930
CREATED:20250129T170850Z
LAST-MODIFIED:20250129T170850Z
UID:10000256-1740677400-1740686400@www.nycla.org
SUMMARY:How to Conduct a Deposition – An Interactive Program
DESCRIPTION:
URL:https://www.nycla.org/calendar-events/how-to-conduct-a-deposition-an-interactive-program-cle022725/
LOCATION:Webinar
CATEGORIES:Continuing Legal Education
END:VEVENT
END:VCALENDAR