BEGIN:VCALENDAR
VERSION:2.0
PRODID:-//New York County Lawyers Association - ECPv6.15.17//NONSGML v1.0//EN
CALSCALE:GREGORIAN
METHOD:PUBLISH
X-WR-CALNAME:New York County Lawyers Association
X-ORIGINAL-URL:https://www.nycla.org
X-WR-CALDESC:Events for New York County Lawyers Association
REFRESH-INTERVAL;VALUE=DURATION:PT1H
X-Robots-Tag:noindex
X-PUBLISHED-TTL:PT1H
BEGIN:VTIMEZONE
TZID:America/New_York
BEGIN:DAYLIGHT
TZOFFSETFROM:-0500
TZOFFSETTO:-0400
TZNAME:EDT
DTSTART:20240310T070000
END:DAYLIGHT
BEGIN:STANDARD
TZOFFSETFROM:-0400
TZOFFSETTO:-0500
TZNAME:EST
DTSTART:20241103T060000
END:STANDARD
BEGIN:DAYLIGHT
TZOFFSETFROM:-0500
TZOFFSETTO:-0400
TZNAME:EDT
DTSTART:20250309T070000
END:DAYLIGHT
BEGIN:STANDARD
TZOFFSETFROM:-0400
TZOFFSETTO:-0500
TZNAME:EST
DTSTART:20251102T060000
END:STANDARD
BEGIN:DAYLIGHT
TZOFFSETFROM:-0500
TZOFFSETTO:-0400
TZNAME:EDT
DTSTART:20260308T070000
END:DAYLIGHT
BEGIN:STANDARD
TZOFFSETFROM:-0400
TZOFFSETTO:-0500
TZNAME:EST
DTSTART:20261101T060000
END:STANDARD
END:VTIMEZONE
BEGIN:VEVENT
DTSTART;TZID=America/New_York:20250915T173000
DTEND;TZID=America/New_York:20250915T184500
DTSTAMP:20260421T165904
CREATED:20250814T221327Z
LAST-MODIFIED:20250814T221327Z
UID:10000326-1757957400-1757961900@www.nycla.org
SUMMARY:A Government of Law and Not Men: John Adams and the Foundations of American Law
DESCRIPTION:
URL:https://www.nycla.org/calendar-events/a-government-of-law-and-not-men-john-adams-and-the-foundations-of-american-law-cle091525/
LOCATION:Webinar
CATEGORIES:Continuing Legal Education
END:VEVENT
BEGIN:VEVENT
DTSTART;TZID=America/New_York:20250915T173000
DTEND;TZID=America/New_York:20250915T184500
DTSTAMP:20260421T165904
CREATED:20250820T130958Z
LAST-MODIFIED:20250820T130958Z
UID:10000327-1757957400-1757961900@www.nycla.org
SUMMARY:Fall 4 Program Presidential Series: A Look at Their Impact Upon the Law
DESCRIPTION:
URL:https://www.nycla.org/calendar-events/fall-4-program-presidential-series-a-look-at-their-impact-upon-the-law-cle091525s/
LOCATION:Webinar
CATEGORIES:Continuing Legal Education
END:VEVENT
END:VCALENDAR