BEGIN:VCALENDAR
VERSION:2.0
PRODID:-//New York County Lawyers Association - ECPv6.15.17//NONSGML v1.0//EN
CALSCALE:GREGORIAN
METHOD:PUBLISH
X-ORIGINAL-URL:https://www.nycla.org
X-WR-CALDESC:Events for New York County Lawyers Association
REFRESH-INTERVAL;VALUE=DURATION:PT1H
X-Robots-Tag:noindex
X-PUBLISHED-TTL:PT1H
BEGIN:VTIMEZONE
TZID:America/New_York
BEGIN:DAYLIGHT
TZOFFSETFROM:-0500
TZOFFSETTO:-0400
TZNAME:EDT
DTSTART:20220313T070000
END:DAYLIGHT
BEGIN:STANDARD
TZOFFSETFROM:-0400
TZOFFSETTO:-0500
TZNAME:EST
DTSTART:20221106T060000
END:STANDARD
BEGIN:DAYLIGHT
TZOFFSETFROM:-0500
TZOFFSETTO:-0400
TZNAME:EDT
DTSTART:20230312T070000
END:DAYLIGHT
BEGIN:STANDARD
TZOFFSETFROM:-0400
TZOFFSETTO:-0500
TZNAME:EST
DTSTART:20231105T060000
END:STANDARD
BEGIN:DAYLIGHT
TZOFFSETFROM:-0500
TZOFFSETTO:-0400
TZNAME:EDT
DTSTART:20240310T070000
END:DAYLIGHT
BEGIN:STANDARD
TZOFFSETFROM:-0400
TZOFFSETTO:-0500
TZNAME:EST
DTSTART:20241103T060000
END:STANDARD
END:VTIMEZONE
BEGIN:VEVENT
DTSTART;TZID=America/New_York:20231113T140000
DTEND;TZID=America/New_York:20231113T180000
DTSTAMP:20260419T152442
CREATED:20230928T140406Z
LAST-MODIFIED:20230928T140655Z
UID:10000040-1699884000-1699898400@www.nycla.org
SUMMARY:4 Half Day Part 146 Advanced Personal Injury Mediation Training
DESCRIPTION:ㅤ ㅤ ㅤ ㅤ ㅤ ㅤ ㅤ ㅤ ㅤ ㅤ ㅤ ㅤ ㅤ ㅤ ㅤ ㅤ ㅤ ㅤ ㅤ ㅤ ㅤ ㅤ ㅤ ㅤ ㅤ ㅤ ㅤ ㅤ ㅤ ㅤ ㅤ ㅤ ㅤ ㅤ ㅤ ㅤ ㅤ ㅤ ㅤ ㅤ ㅤ ㅤ ㅤ ㅤ ㅤ ㅤ ㅤ ㅤ ㅤ ㅤ ㅤ ㅤ ㅤ ㅤ ㅤ ㅤ ㅤ ㅤ ㅤ ㅤ ㅤ ㅤ ㅤ ㅤ ㅤ ㅤ ㅤ ㅤ ㅤ ㅤ ㅤ ㅤ ㅤ ㅤ ㅤ ㅤ ㅤ ㅤ ㅤ ㅤ ㅤ ㅤ ㅤ ㅤ ㅤ ㅤ ㅤ ㅤ ㅤ ㅤ ㅤ ㅤ ㅤ ㅤ ㅤ ㅤ ㅤ ㅤ ㅤ ㅤ ㅤ ㅤ ㅤ ㅤ ㅤ ㅤ ㅤ ㅤ ㅤ \n\n\n ㅤ ㅤ ㅤ ㅤ ㅤ ㅤ ㅤ ㅤ ㅤ ㅤ ㅤ \n\n\n\n	\n		\n		\n		\n		\n		\n		\n		\n		\n		\n		\n	\n\n\n \n \n  \n  \n  \n                                                                                                                                                                                                                                                                                                                     
URL:https://www.nycla.org/calendar-events/4-half-day-part-146-advanced-personal-injury-mediation-training-3/
LOCATION:Webinar
CATEGORIES:Continuing Legal Education
END:VEVENT
BEGIN:VEVENT
DTSTART;TZID=America/New_York:20231113T173000
DTEND;TZID=America/New_York:20231113T190000
DTSTAMP:20260419T152442
CREATED:20230919T200854Z
LAST-MODIFIED:20230919T200854Z
UID:10000033-1699896600-1699902000@www.nycla.org
SUMMARY:Board of Directors Meeting
DESCRIPTION:Board Members Only.
URL:https://www.nycla.org/calendar-events/board-of-directors-meeting-2/
LOCATION:In-Person | Zoom
CATEGORIES:Board of Directors Meeting,Members Only
END:VEVENT
END:VCALENDAR