BEGIN:VCALENDAR
VERSION:2.0
PRODID:-//New York County Lawyers Association - ECPv6.15.17//NONSGML v1.0//EN
CALSCALE:GREGORIAN
METHOD:PUBLISH
X-WR-CALNAME:New York County Lawyers Association
X-ORIGINAL-URL:https://www.nycla.org
X-WR-CALDESC:Events for New York County Lawyers Association
REFRESH-INTERVAL;VALUE=DURATION:PT1H
X-Robots-Tag:noindex
X-PUBLISHED-TTL:PT1H
BEGIN:VTIMEZONE
TZID:America/New_York
BEGIN:DAYLIGHT
TZOFFSETFROM:-0500
TZOFFSETTO:-0400
TZNAME:EDT
DTSTART:20220313T070000
END:DAYLIGHT
BEGIN:STANDARD
TZOFFSETFROM:-0400
TZOFFSETTO:-0500
TZNAME:EST
DTSTART:20221106T060000
END:STANDARD
BEGIN:DAYLIGHT
TZOFFSETFROM:-0500
TZOFFSETTO:-0400
TZNAME:EDT
DTSTART:20230312T070000
END:DAYLIGHT
BEGIN:STANDARD
TZOFFSETFROM:-0400
TZOFFSETTO:-0500
TZNAME:EST
DTSTART:20231105T060000
END:STANDARD
BEGIN:DAYLIGHT
TZOFFSETFROM:-0500
TZOFFSETTO:-0400
TZNAME:EDT
DTSTART:20240310T070000
END:DAYLIGHT
BEGIN:STANDARD
TZOFFSETFROM:-0400
TZOFFSETTO:-0500
TZNAME:EST
DTSTART:20241103T060000
END:STANDARD
END:VTIMEZONE
BEGIN:VEVENT
DTSTART;TZID=America/New_York:20231109T120000
DTEND;TZID=America/New_York:20231109T133000
DTSTAMP:20260419T152457
CREATED:20231005T201929Z
LAST-MODIFIED:20231005T201929Z
UID:10000046-1699531200-1699536600@www.nycla.org
SUMMARY:Legal Barriers to Tribal Project Development
DESCRIPTION:
URL:https://www.nycla.org/calendar-events/legal-barriers-to-tribal-project-development/
LOCATION:Webinar
CATEGORIES:Continuing Legal Education
END:VEVENT
BEGIN:VEVENT
DTSTART;TZID=America/New_York:20231109T173000
DTEND;TZID=America/New_York:20231109T190000
DTSTAMP:20260419T152457
CREATED:20231005T211326Z
LAST-MODIFIED:20231005T211326Z
UID:10000047-1699551000-1699556400@www.nycla.org
SUMMARY:An Evening with Hon. Richard J. Sullivan
DESCRIPTION:
URL:https://www.nycla.org/calendar-events/an-evening-with-hon-richard-j-sullivan/
LOCATION:In-person\, 111 Broadway\, New York\, NY\, 10006\, United States
CATEGORIES:Continuing Legal Education
END:VEVENT
END:VCALENDAR